BEGIN:VCALENDAR
VERSION:2.0
PRODID:-//eventon.com NONSGML v1.0//EN
CALSCALE:GREGORIAN
METHOD:PUBLISH
BEGIN:VEVENT
UID:69e6bc899b1ec
DTSTAMP:20260420T235345Z
DTSTART:20240906T090000Z
DTEND:20240906T180000Z
LOCATION:Allstate Offices
SUMMARY:AWS Community Day Belfast
DESCRIPTION:Join the AWS BelfAWSt User Group organizers for their first AWS
  Community Day Belfast! This is a one-day event run by the community\,  for
  the community\,  featuring diverse local community leaders and speakers of
  all backgrounds. This event is free and open to anyone interested in AWS a
 nd cloud technologies.[..]\nhttps://fourtheorem.com/events/aws-community-da
 y-belfast/
URL:https://fourtheorem.com/events/aws-community-day-belfast/
END:VEVENT
END:VCALENDAR