BEGIN:VCALENDAR
VERSION:2.0
PRODID:-//eventon.com NONSGML v1.0//EN
CALSCALE:GREGORIAN
METHOD:PUBLISH
BEGIN:VEVENT
UID:69e5dc6daff31
DTSTAMP:20260420T075733Z
DTSTART:20190927T090000Z
DTEND:20190927T235000Z
LOCATION:Warsaw\,  Poland
SUMMARY:Warsaw AWS & Serverless User Group
DESCRIPTION:At the Warsaw AWS &#038; Serverless User Group meetup in Poland
 \,  CTO Eoin Shanaghy presented a hands on workshop on the open-source proj
 ect\,  the SLIC Serverless Starter Kit.  SLIC Starter is a complete starte
 r project for production-grade Serverless applications on AWS.\nhttps://fou
 rtheorem.com/events/warsaw-aws-serverless-user-group/
URL:https://fourtheorem.com/events/warsaw-aws-serverless-user-group/
END:VEVENT
END:VCALENDAR