BEGIN:VCALENDAR
VERSION:2.0
PRODID:-//eventon.com NONSGML v1.0//EN
CALSCALE:GREGORIAN
METHOD:PUBLISH
BEGIN:VEVENT
UID:69ea1d4e25de6
DTSTAMP:20260423T132326Z
DTSTART:20191010T090000Z
DTEND:20191010T235000Z
LOCATION:ExCeL London
SUMMARY:Digital Transformation Expo Europe – London Excel
DESCRIPTION:For two days in October 2019 ExCeL London was filled with 1\, 0
 00s of IT leaders\,  security specialists and digital transformation vision
 aries enjoying free seminars from expert speakers\,  tech demos from leader
 s in tech\,  training courses and next-generation products and solutions. f
 ourTheorem CTO Eoin Shanaghy spoke on &#8216;The Future of Enterprise[..]\n
 https://fourtheorem.com/events/digital-transformation-expo-europe-london-ex
 cel/
URL:https://fourtheorem.com/events/digital-transformation-expo-europe-london-excel/
END:VEVENT
END:VCALENDAR