BEGIN:VCALENDAR
VERSION:2.0
PRODID:-//eventon.com NONSGML v1.0//EN
CALSCALE:GREGORIAN
METHOD:PUBLISH
BEGIN:VEVENT
UID:69e962a20a089
DTSTAMP:20260423T000658Z
DTSTART:20200129T000000Z
DTEND:20200129T235900Z
LOCATION:Dublin
SUMMARY:Dublin Serverless Meetup
DESCRIPTION:fourTheorem were delighted to support the inaugural Serverless 
 meet-up in Dublin. CTO Eoin Shanaghy spoke about &#8216;Serverless Continuo
 us Deployment and Observability&#8217;. The talk examined the CI/CD and mon
 itoring and reporting capabilities of the SLIC Serverless starter kit.\nhtt
 ps://fourtheorem.com/events/dublin-serverless-meetup/
URL:https://fourtheorem.com/events/dublin-serverless-meetup/
END:VEVENT
END:VCALENDAR