BEGIN:VCALENDAR
VERSION:2.0
PRODID:-//eventon.com NONSGML v1.0//EN
CALSCALE:GREGORIAN
METHOD:PUBLISH
BEGIN:VEVENT
UID:69e5eea780a8d
DTSTAMP:20260420T091519Z
DTSTART:20221018T000000Z
DTEND:20221018T235900Z
LOCATION:East End Studios
SUMMARY:Codemotion Milan
DESCRIPTION:The Codemotion 2022 Conference in Milan brings you two days of 
 interactive\,  engaging and exciting activities for those who love software
  and want to make the world a better place thanks to coding. Senior Softwar
 e Architect Luciano Mammino will be at Codemotion discussing a successful a
 pplication of serverless in the[..]\nhttps://fourtheorem.com/events/codemot
 ion-milan-3/
URL:https://fourtheorem.com/events/codemotion-milan-3/
END:VEVENT
END:VCALENDAR