BEGIN:VCALENDAR
VERSION:2.0
PRODID:-//eventon.com NONSGML v1.0//EN
CALSCALE:GREGORIAN
METHOD:PUBLISH
BEGIN:VEVENT
UID:69eb22af66363
DTSTAMP:20260424T075839Z
DTSTART:20220914T000000Z
DTEND:20220914T235900Z
LOCATION:Pairc Ui Chaoimh
SUMMARY:AWS – Data Driven Innovation
DESCRIPTION:Join us for the AWS Data Driven Innovation event in Cork this S
 eptember. This will be an opportunity to connect with the AWS AI &#038; ML 
 \,  Analytics and Data platform technology community and practitioners\,  a
 nd learn about how AWS customers are delivering new and differentiated capa
 bilities. Mark Hodnett\,  Cloud[..]\nhttps://fourtheorem.com/events/aws-dat
 a-driven-innovation/
URL:https://fourtheorem.com/events/aws-data-driven-innovation/
END:VEVENT
END:VCALENDAR